View In:
ArcGIS JavaScript
ArcGIS Online Map Viewer
ArcGIS Earth
Service Description: The Washington Shrubsteppe Restoration and Resiliency Initiative (WSRRI; https://wdfw.wa.gov/species-habitats/habitat-recovery/shrubsteppe) created maps of spatial priorities for dry (xeric) ecosystems and wet (mesic) ecosystems in the Columbia Plateau ecoregion in Washington at a 100-m resolution. We combined these two ecosystem priorities into a single layer depicting the highest valued habitat category from either of the two ecosystem maps. Cores with the highest quality habitat received a score of 2. Growth Opportunity Areas (GOAs) were more degraded than cores but still had a significant amount of habitat that could become Core with restoration; these received a score of 1. Corridors received a score of 0.5.
Name: HP_WAHCAP/WSRRIXericandMesic
Description: The Washington Shrubsteppe Restoration and Resiliency Initiative (WSRRI; https://wdfw.wa.gov/species-habitats/habitat-recovery/shrubsteppe) created maps of spatial priorities for dry (xeric) ecosystems and wet (mesic) ecosystems in the Columbia Plateau ecoregion in Washington at a 100-m resolution. We combined these two ecosystem priorities into a single layer depicting the highest valued habitat category from either of the two ecosystem maps. Cores with the highest quality habitat received a score of 2. Growth Opportunity Areas (GOAs) were more degraded than cores but still had a significant amount of habitat that could become Core with restoration; these received a score of 1. Corridors received a score of 0.5.
Single Fused Map Cache: false
Extent:
XMin: 546984.0963836946
YMin: -96279.09873866104
XMax: 3011220.655747201
YMax: 2708134.951580643
Spatial Reference: 2927
(2927)
LatestVCSWkid(0)
Initial Extent:
XMin: 546984.0963836946
YMin: -96279.09873866104
XMax: 3011220.655747201
YMax: 2708134.951580643
Spatial Reference: 2927
(2927)
LatestVCSWkid(0)
Full Extent:
XMin: 546984.0963836946
YMin: -96279.09873866104
XMax: 3011220.655747201
YMax: 2708134.951580643
Spatial Reference: 2927
(2927)
LatestVCSWkid(0)
Pixel Size X: 328.040010564897
Pixel Size Y: 328.040010564897
Band Count: 1
Pixel Type: U8
RasterFunction Infos: {"rasterFunctionInfos": [{
"name": "None",
"description": "",
"help": ""
}]}
Mensuration Capabilities: Basic
Has Histograms: true
Has Colormap: false
Has Multi Dimensions : false
Rendering Rule:
Min Scale: 0
Max Scale: 0
Copyright Text: This layer is a combination of two separate layers (Xeric and Mesic Priorities) produced by TerrAdapt (https://terradapt.org/) for the Washington Shrubsteppe Restoration and Resiliency Initiative (WSRRI; https://wdfw.wa.gov/species-habitats/habitat-recovery/shrubsteppe).
Service Data Type: esriImageServiceDataTypeThematic
Min Values: 0
Max Values: 4
Mean Values: 0.17511514465691794
Standard Deviation Values: 0.7236967719473705
Object ID Field:
Fields:
None
Default Mosaic Method: Center
Allowed Mosaic Methods:
SortField:
SortValue: null
Mosaic Operator: First
Default Compression Quality: 75
Default Resampling Method: Nearest
Max Record Count: null
Max Image Height: 4100
Max Image Width: 15000
Max Download Image Count: null
Max Mosaic Image Count: null
Allow Raster Function: true
Allow Copy: true
Allow Analysis: true
Allow Compute TiePoints: false
Supports Statistics: false
Supports Advanced Queries: false
Use StandardizedQueries: true
Raster Type Infos:
Name: Raster Dataset
Description: Supports all ArcGIS Raster Datasets
Help:
Has Raster Attribute Table: true
Edit Fields Info: null
Ownership Based AccessControl For Rasters: null
Child Resources:
Info
Raster Attribute Table
Histograms
Statistics
Key Properties
Legend
Raster Function Infos
Supported Operations:
Export Image
Identify
Measure
Compute Histograms
Compute Statistics Histograms
Get Samples
Compute Class Statistics
Query Boundary
Compute Pixel Location
Compute Angles
Validate
Project