{ "currentVersion": 11.1, "serviceDescription": "
The Washington Shrubsteppe Restoration and Resiliency Initiative (WSRRI; https://wdfw.wa.gov/species-habitats/habitat-recovery/shrubsteppe) created maps of spatial priorities for dry (xeric) ecosystems and wet (mesic) ecosystems in the Columbia Plateau ecoregion in Washington at a 100-m resolution. We combined these two ecosystem priorities into a single layer depicting the highest valued habitat category from either of the two ecosystem maps. Cores with the highest quality habitat received a score of 2. Growth Opportunity Areas (GOAs) were more degraded than cores but still had a significant amount of habitat that could become Core with restoration; these received a score of 1. Corridors received a score of 0.5. <\/SPAN><\/P><\/DIV><\/DIV><\/DIV>",
"name": "HP_WAHCAP/WSRRIXericandMesic",
"description": " The Washington Shrubsteppe Restoration and Resiliency Initiative (WSRRI; https://wdfw.wa.gov/species-habitats/habitat-recovery/shrubsteppe) created maps of spatial priorities for dry (xeric) ecosystems and wet (mesic) ecosystems in the Columbia Plateau ecoregion in Washington at a 100-m resolution. We combined these two ecosystem priorities into a single layer depicting the highest valued habitat category from either of the two ecosystem maps. Cores with the highest quality habitat received a score of 2. Growth Opportunity Areas (GOAs) were more degraded than cores but still had a significant amount of habitat that could become Core with restoration; these received a score of 1. Corridors received a score of 0.5. <\/span><\/p><\/div><\/div><\/div>",
"extent": {
"xmin": 546984.0963836946,
"ymin": -96279.09873866104,
"xmax": 3011220.655747201,
"ymax": 2708134.951580643,
"spatialReference": {
"wkid": 2927,
"latestWkid": 2927
}
},
"initialExtent": {
"xmin": 546984.0963836946,
"ymin": -96279.09873866104,
"xmax": 3011220.655747201,
"ymax": 2708134.951580643,
"spatialReference": {
"wkid": 2927,
"latestWkid": 2927
}
},
"fullExtent": {
"xmin": 546984.0963836946,
"ymin": -96279.09873866104,
"xmax": 3011220.655747201,
"ymax": 2708134.951580643,
"spatialReference": {
"wkid": 2927,
"latestWkid": 2927
}
},
"sortableFields": "",
"bandCount": 1,
"pixelType": "U8",
"minValues": [
0
],
"maxValues": [
4
],
"meanValues": [
0.17511514465691794
],
"stdvValues": [
0.7236967719473705
],
"hasMultidimensions": false,
"pixelSizeX": 328.040010564897,
"pixelSizeY": 328.040010564897,
"datasetFormat": "FGDBR",
"uncompressedSize": 64220088,
"blockWidth": 128,
"blockHeight": 128,
"compressionType": "LZ77",
"bandNames": [
"Band_1"
],
"allowCopy": true,
"allowAnalysis": true,
"itemAccess": false,
"minPixelSize": 0,
"maxPixelSize": 0,
"copyrightText": "This layer is a combination of two separate layers (Xeric and Mesic Priorities) produced by TerrAdapt (https://terradapt.org/) for the Washington Shrubsteppe Restoration and Resiliency Initiative (WSRRI; https://wdfw.wa.gov/species-habitats/habitat-recovery/shrubsteppe).",
"serviceDataType": "esriImageServiceDataTypeThematic",
"serviceSourceType": "esriImageServiceSourceTypeDataset",
"objectIdField": "",
"fields": [],
"capabilities": "Image,Metadata,Mensuration",
"defaultMosaicMethod": "Center",
"allowedMosaicMethods": "",
"sortField": "",
"sortValue": null,
"sortAscending": true,
"mosaicOperator": "First",
"defaultCompressionQuality": 75,
"defaultResamplingMethod": "Nearest",
"maxImageHeight": 4100,
"maxImageWidth": 15000,
"allowRasterFunction": true,
"rasterFunctionInfos": [
{
"name": "None",
"description": "",
"help": ""
}
],
"rasterTypeInfos": [
{
"name": "Raster Dataset",
"description": "Supports all ArcGIS Raster Datasets",
"help": ""
}
],
"mensurationCapabilities": "Basic",
"hasHistograms": true,
"hasColormap": false,
"hasRasterAttributeTable": true,
"minScale": 0,
"maxScale": 0,
"exportTilesAllowed": false,
"supportsStatistics": false,
"supportsAdvancedQueries": false,
"editFieldsInfo": null,
"ownershipBasedAccessControlForRasters": null,
"allowComputeTiePoints": false,
"useStandardizedQueries": true,
"advancedQueryCapabilities": {
"useStandardizedQueries": true,
"supportsStatistics": false,
"supportsOrderBy": false,
"supportsDistinct": false,
"supportsPagination": false
},
"spatialReference": {
"wkid": 2927,
"latestWkid": 2927
}
}