View In:
ArcGIS JavaScript
ArcGIS Online Map Viewer
ArcGIS Earth
Service Description: A map of westside prairie habitat in the south Puget Sound (SPS) region was developed to elevate the significance of core habitat and corridors that intersect with prairie. The map layer started by using a definition of westside prairie from WDFW’s Priority Habitats and Species program (WDFW 2008). In this definition is a list of prairie-associated soil types, including a subset of soils associated with SPS prairies. These SPS prairie soils were selected as the foundation of the prairie map. To identify the location of these soils we used a soil survey layer derived from the Private Forest Land Grading System and subsequent soil surveys that is available on the Washington Spatial Data server (see WA Soils | Washington State Geospatial Open Data Portal). The SPS soil types were selected from this layer and then clipped to the boundary of the Southern Puget Prairie level IV ecoregion. To ensure our analysis focused on areas with a high probability of existing prairie habitat, rather than those impacted by development or forest encroachment, we employed the Landfire Existing Vegetation Type layer to extract open and undeveloped portions from the prairie soil layer.
Name: HP_WAHCAP/Prairies_100m
Description: A map of westside prairie habitat in the south Puget Sound (SPS) region was developed to elevate the significance of core habitat and corridors that intersect with prairie. The map layer started by using a definition of westside prairie from WDFW’s Priority Habitats and Species program (WDFW 2008). In this definition is a list of prairie-associated soil types, including a subset of soils associated with SPS prairies. These SPS prairie soils were selected as the foundation of the prairie map. To identify the location of these soils we used a soil survey layer derived from the Private Forest Land Grading System and subsequent soil surveys that is available on the Washington Spatial Data server (see WA Soils | Washington State Geospatial Open Data Portal). The SPS soil types were selected from this layer and then clipped to the boundary of the Southern Puget Prairie level IV ecoregion. To ensure our analysis focused on areas with a high probability of existing prairie habitat, rather than those impacted by development or forest encroachment, we employed the Landfire Existing Vegetation Type layer to extract open and undeveloped portions from the prairie soil layer.
Single Fused Map Cache: false
Extent:
XMin: 600542.2106358111
YMin: 83558.26049664617
XMax: 2548700.8487043674
YMax: 1356193.3829398812
Spatial Reference: 2927
(2927)
LatestVCSWkid(0)
Initial Extent:
XMin: 600542.2106358111
YMin: 83558.26049664617
XMax: 2548700.8487043674
YMax: 1356193.3829398812
Spatial Reference: 2927
(2927)
LatestVCSWkid(0)
Full Extent:
XMin: 600542.2106358111
YMin: 83558.26049664617
XMax: 2548700.8487043674
YMax: 1356193.3829398812
Spatial Reference: 2927
(2927)
LatestVCSWkid(0)
Pixel Size X: 328.0833004494032
Pixel Size Y: 328.0833004494032
Band Count: 1
Pixel Type: F32
RasterFunction Infos: {"rasterFunctionInfos": [{
"name": "None",
"description": "",
"help": ""
}]}
Mensuration Capabilities: Basic
Has Histograms: true
Has Colormap: false
Has Multi Dimensions : false
Rendering Rule:
Min Scale: 0
Max Scale: 0
Copyright Text: This layer was developed for the 2025 Washington Habitat Connectivity Action Plan by the Washington Department of Fish and Wildlife (WDFW).
Service Data Type: esriImageServiceDataTypeGeneric
Min Values: 0
Max Values: 1
Mean Values: 0.11286592530166308
Standard Deviation Values: 0.20694501467381018
Object ID Field:
Fields:
None
Default Mosaic Method: Center
Allowed Mosaic Methods:
SortField:
SortValue: null
Mosaic Operator: First
Default Compression Quality: 75
Default Resampling Method: Nearest
Max Record Count: null
Max Image Height: 4100
Max Image Width: 15000
Max Download Image Count: null
Max Mosaic Image Count: null
Allow Raster Function: true
Allow Copy: true
Allow Analysis: true
Allow Compute TiePoints: false
Supports Statistics: false
Supports Advanced Queries: false
Use StandardizedQueries: true
Raster Type Infos:
Name: Raster Dataset
Description: Supports all ArcGIS Raster Datasets
Help:
Has Raster Attribute Table: false
Edit Fields Info: null
Ownership Based AccessControl For Rasters: null
Child Resources:
Info
Histograms
Statistics
Key Properties
Legend
Raster Function Infos
Supported Operations:
Export Image
Identify
Measure
Compute Histograms
Compute Statistics Histograms
Get Samples
Compute Class Statistics
Query Boundary
Compute Pixel Location
Compute Angles
Validate
Project