{ "currentVersion": 11.1, "serviceDescription": "
A map of westside prairie habitat in the south Puget Sound (SPS) region was developed to elevate the significance of core habitat and corridors that intersect with prairie. The map layer started by using a definition of westside prairie from WDFW\u2019s Priority Habitats and Species program (WDFW 2008). In this definition is a list of prairie-associated soil types, including a subset of soils associated with SPS prairies. These SPS prairie soils were selected as the foundation of the prairie map. To identify the location of these soils we used a soil survey layer derived from the Private Forest Land Grading System and subsequent soil surveys that is available on the Washington Spatial Data server (see WA Soils | Washington State Geospatial Open Data Portal). The SPS soil types were selected from this layer and then clipped to the boundary of the Southern Puget Prairie level IV ecoregion. To ensure our analysis focused on areas with a high probability of existing prairie habitat, rather than those impacted by development or forest encroachment, we employed the Landfire Existing Vegetation Type layer to extract open and undeveloped portions from the prairie soil layer.<\/SPAN><\/P><\/DIV>",
"name": "HP_WAHCAP/Prairies_100m",
"description": " A map of westside prairie habitat in the south Puget Sound (SPS) region was developed to elevate the significance of core habitat and corridors that intersect with prairie. The map layer started by using a definition of westside prairie from WDFW\u2019s Priority Habitats and Species program (WDFW 2008). In this definition is a list of prairie-associated soil types, including a subset of soils associated with SPS prairies. These SPS prairie soils were selected as the foundation of the prairie map. To identify the location of these soils we used a soil survey layer derived from the Private Forest Land Grading System and subsequent soil surveys that is available on the Washington Spatial Data server (see WA Soils | Washington State Geospatial Open Data Portal). The SPS soil types were selected from this layer and then clipped to the boundary of the Southern Puget Prairie level IV ecoregion. To ensure our analysis focused on areas with a high probability of existing prairie habitat, rather than those impacted by development or forest encroachment, we employed the Landfire Existing Vegetation Type layer to extract open and undeveloped portions from the prairie soil layer.<\/span><\/p><\/div>",
"extent": {
"xmin": 600542.2106358111,
"ymin": 83558.26049664617,
"xmax": 2548700.8487043674,
"ymax": 1356193.3829398812,
"spatialReference": {
"wkid": 2927,
"latestWkid": 2927
}
},
"initialExtent": {
"xmin": 600542.2106358111,
"ymin": 83558.26049664617,
"xmax": 2548700.8487043674,
"ymax": 1356193.3829398812,
"spatialReference": {
"wkid": 2927,
"latestWkid": 2927
}
},
"fullExtent": {
"xmin": 600542.2106358111,
"ymin": 83558.26049664617,
"xmax": 2548700.8487043674,
"ymax": 1356193.3829398812,
"spatialReference": {
"wkid": 2927,
"latestWkid": 2927
}
},
"sortableFields": "",
"bandCount": 1,
"pixelType": "F32",
"minValues": [
0
],
"maxValues": [
1
],
"meanValues": [
0.11286592530166308
],
"stdvValues": [
0.20694501467381018
],
"hasMultidimensions": false,
"pixelSizeX": 328.0833004494032,
"pixelSizeY": 328.0833004494032,
"datasetFormat": "FGDBR",
"uncompressedSize": 92110256,
"blockWidth": 128,
"blockHeight": 128,
"compressionType": "LZ77",
"bandNames": [
"Band_1"
],
"allowCopy": true,
"allowAnalysis": true,
"itemAccess": false,
"minPixelSize": 0,
"maxPixelSize": 0,
"copyrightText": "This layer was developed for the 2025 Washington Habitat Connectivity Action Plan by the Washington Department of Fish and Wildlife (WDFW).",
"serviceDataType": "esriImageServiceDataTypeGeneric",
"serviceSourceType": "esriImageServiceSourceTypeDataset",
"objectIdField": "",
"fields": [],
"capabilities": "Image,Metadata,Mensuration",
"defaultMosaicMethod": "Center",
"allowedMosaicMethods": "",
"sortField": "",
"sortValue": null,
"sortAscending": true,
"mosaicOperator": "First",
"defaultCompressionQuality": 75,
"defaultResamplingMethod": "Nearest",
"maxImageHeight": 4100,
"maxImageWidth": 15000,
"allowRasterFunction": true,
"rasterFunctionInfos": [
{
"name": "None",
"description": "",
"help": ""
}
],
"rasterTypeInfos": [
{
"name": "Raster Dataset",
"description": "Supports all ArcGIS Raster Datasets",
"help": ""
}
],
"mensurationCapabilities": "Basic",
"hasHistograms": true,
"hasColormap": false,
"hasRasterAttributeTable": false,
"minScale": 0,
"maxScale": 0,
"exportTilesAllowed": false,
"supportsStatistics": false,
"supportsAdvancedQueries": false,
"editFieldsInfo": null,
"ownershipBasedAccessControlForRasters": null,
"allowComputeTiePoints": false,
"useStandardizedQueries": true,
"advancedQueryCapabilities": {
"useStandardizedQueries": true,
"supportsStatistics": false,
"supportsOrderBy": false,
"supportsDistinct": false,
"supportsPagination": false
},
"spatialReference": {
"wkid": 2927,
"latestWkid": 2927
}
}