View In:
ArcGIS JavaScript
ArcGIS Online Map Viewer
ArcGIS Earth
Service Description: To represent how landscape characteristics might facilitate or impede species movement under various climate change scenarios, we utilized a continent-wide model for North America published by Parks et al. (2020). This model employed a least-cost path approach to generate movement trajectories from each 5km pixel to its nearest future climate analog. The analysis prioritized paths avoiding dissimilar climates and areas with increasing human land-use intensity, as defined by the Human Modification Gradient (HMG). The resulting layer depicts the total number of these trajectories intersecting each 5km pixel. We clipped the climate connectivity layer to Washington state, resampled it to the1mi grid, and rescaled it between 0-1 (1-representing the highest climate connectivity) to match the other connectivity metrics.
Name: HP_WAHCAP/ClimateConnectivity
Description: To represent how landscape characteristics might facilitate or impede species movement under various climate change scenarios, we utilized a continent-wide model for North America published by Parks et al. (2020). This model employed a least-cost path approach to generate movement trajectories from each 5km pixel to its nearest future climate analog. The analysis prioritized paths avoiding dissimilar climates and areas with increasing human land-use intensity, as defined by the Human Modification Gradient (HMG). The resulting layer depicts the total number of these trajectories intersecting each 5km pixel. We clipped the climate connectivity layer to Washington state, resampled it to the1mi grid, and rescaled it between 0-1 (1-representing the highest climate connectivity) to match the other connectivity metrics.
Single Fused Map Cache: false
Extent:
XMin: 600542.2103022108
YMin: 78278.28616055124
XMax: 2554142.1255454835
YMax: 1356038.2604969135
Spatial Reference: 2927
(2927)
LatestVCSWkid(0)
Initial Extent:
XMin: 600542.2103022108
YMin: 78278.28616055124
XMax: 2554142.1255454835
YMax: 1356038.2604969135
Spatial Reference: 2927
(2927)
LatestVCSWkid(0)
Full Extent:
XMin: 600542.2103022108
YMin: 78278.28616055124
XMax: 2554142.1255454835
YMax: 1356038.2604969135
Spatial Reference: 2927
(2927)
LatestVCSWkid(0)
Pixel Size X: 5279.999770927764
Pixel Size Y: 5279.99989395191
Band Count: 1
Pixel Type: F32
RasterFunction Infos: {"rasterFunctionInfos": [{
"name": "None",
"description": "",
"help": ""
}]}
Mensuration Capabilities: Basic
Has Histograms: true
Has Colormap: false
Has Multi Dimensions : false
Rendering Rule:
Min Scale: 0
Max Scale: 0
Copyright Text: This layer was modified for the Washington Habitat Connectivity Action Plan by the Washington Department of Fish and Wildlife (WDFW) from Parks, S.A., Carroll, C., Dobrowski, S.Z. and Allred, B.W., 2020. Human land uses reduce climate connectivity across North America. Global Change Biology, 26(5), pp.2944-2955.
Service Data Type: esriImageServiceDataTypeGeneric
Min Values: 0
Max Values: 1
Mean Values: 0.043378945842931935
Standard Deviation Values: 0.07805020997768142
Object ID Field:
Fields:
None
Default Mosaic Method: Center
Allowed Mosaic Methods:
SortField:
SortValue: null
Mosaic Operator: First
Default Compression Quality: 75
Default Resampling Method: Nearest
Max Record Count: null
Max Image Height: 4100
Max Image Width: 15000
Max Download Image Count: null
Max Mosaic Image Count: null
Allow Raster Function: true
Allow Copy: true
Allow Analysis: true
Allow Compute TiePoints: false
Supports Statistics: false
Supports Advanced Queries: false
Use StandardizedQueries: true
Raster Type Infos:
Name: Raster Dataset
Description: Supports all ArcGIS Raster Datasets
Help:
Has Raster Attribute Table: false
Edit Fields Info: null
Ownership Based AccessControl For Rasters: null
Child Resources:
Info
Histograms
Statistics
Key Properties
Legend
Raster Function Infos
Supported Operations:
Export Image
Identify
Measure
Compute Histograms
Compute Statistics Histograms
Get Samples
Compute Class Statistics
Query Boundary
Compute Pixel Location
Compute Angles
Validate
Project