{ "currentVersion": 11.1, "serviceDescription": "
To represent how landscape characteristics might facilitate or impede species movement under various climate change scenarios, we utilized a continent-wide model for North America published by Parks et al. (2020). This model employed a least-cost path approach to generate movement trajectories from each 5km pixel to its nearest future climate analog. The analysis prioritized paths avoiding dissimilar climates and areas with increasing human land-use intensity, as defined by the Human Modification Gradient (HMG). The resulting layer depicts the total number of these trajectories intersecting each 5km pixel. We clipped the climate connectivity layer to Washington state, resampled it to the1mi grid, and rescaled it between 0-1 (1-representing the highest climate connectivity) to match the other connectivity metrics.<\/SPAN><\/P><\/DIV>",
"name": "HP_WAHCAP/ClimateConnectivity",
"description": " To represent how landscape characteristics might facilitate or impede species movement under various climate change scenarios, we utilized a continent-wide model for North America published by Parks et al. (2020). This model employed a least-cost path approach to generate movement trajectories from each 5km pixel to its nearest future climate analog. The analysis prioritized paths avoiding dissimilar climates and areas with increasing human land-use intensity, as defined by the Human Modification Gradient (HMG). The resulting layer depicts the total number of these trajectories intersecting each 5km pixel. We clipped the climate connectivity layer to Washington state, resampled it to the1mi grid, and rescaled it between 0-1 (1-representing the highest climate connectivity) to match the other connectivity metrics.<\/span><\/p><\/div>",
"extent": {
"xmin": 600542.2103022108,
"ymin": 78278.28616055124,
"xmax": 2554142.1255454835,
"ymax": 1356038.2604969135,
"spatialReference": {
"wkid": 2927,
"latestWkid": 2927
}
},
"initialExtent": {
"xmin": 600542.2103022108,
"ymin": 78278.28616055124,
"xmax": 2554142.1255454835,
"ymax": 1356038.2604969135,
"spatialReference": {
"wkid": 2927,
"latestWkid": 2927
}
},
"fullExtent": {
"xmin": 600542.2103022108,
"ymin": 78278.28616055124,
"xmax": 2554142.1255454835,
"ymax": 1356038.2604969135,
"spatialReference": {
"wkid": 2927,
"latestWkid": 2927
}
},
"sortableFields": "",
"bandCount": 1,
"pixelType": "F32",
"minValues": [
0
],
"maxValues": [
1
],
"meanValues": [
0.043378945842931935
],
"stdvValues": [
0.07805020997768142
],
"hasMultidimensions": false,
"pixelSizeX": 5279.999770927764,
"pixelSizeY": 5279.99989395191,
"datasetFormat": "FGDBR",
"uncompressedSize": 358160,
"blockWidth": 128,
"blockHeight": 128,
"compressionType": "LZ77",
"bandNames": [
"Band_1"
],
"allowCopy": true,
"allowAnalysis": true,
"itemAccess": false,
"minPixelSize": 0,
"maxPixelSize": 0,
"copyrightText": "This layer was modified for the Washington Habitat Connectivity Action Plan by the Washington Department of Fish and Wildlife (WDFW) from Parks, S.A., Carroll, C., Dobrowski, S.Z. and Allred, B.W., 2020. Human land uses reduce climate connectivity across North America. Global Change Biology, 26(5), pp.2944-2955.",
"serviceDataType": "esriImageServiceDataTypeGeneric",
"serviceSourceType": "esriImageServiceSourceTypeDataset",
"objectIdField": "",
"fields": [],
"capabilities": "Image,Metadata,Mensuration",
"defaultMosaicMethod": "Center",
"allowedMosaicMethods": "",
"sortField": "",
"sortValue": null,
"sortAscending": true,
"mosaicOperator": "First",
"defaultCompressionQuality": 75,
"defaultResamplingMethod": "Nearest",
"maxImageHeight": 4100,
"maxImageWidth": 15000,
"allowRasterFunction": true,
"rasterFunctionInfos": [
{
"name": "None",
"description": "",
"help": ""
}
],
"rasterTypeInfos": [
{
"name": "Raster Dataset",
"description": "Supports all ArcGIS Raster Datasets",
"help": ""
}
],
"mensurationCapabilities": "Basic",
"hasHistograms": true,
"hasColormap": false,
"hasRasterAttributeTable": false,
"minScale": 0,
"maxScale": 0,
"exportTilesAllowed": false,
"supportsStatistics": false,
"supportsAdvancedQueries": false,
"editFieldsInfo": null,
"ownershipBasedAccessControlForRasters": null,
"allowComputeTiePoints": false,
"useStandardizedQueries": true,
"advancedQueryCapabilities": {
"useStandardizedQueries": true,
"supportsStatistics": false,
"supportsOrderBy": false,
"supportsDistinct": false,
"supportsPagination": false
},
"spatialReference": {
"wkid": 2927,
"latestWkid": 2927
}
}