{
 "currentVersion": 11.1,
 "serviceDescription": "Areas of both high connectivity value and solar development risk developed for the Washington Habitat Connectivity Action Plan.To identify focal connectivity areas with a high threat of solar development we used The Solar Development Suitability Model for Columbia Plateau created by a mapping group for the Least-Conflict Solar Project managed by Washington State University Energy Program (https://www.energy.wsu.edu/RenewableEnergy/LeastConflictSolarSiting.aspx). The model was built using Environmental Evaluation Modeling System (EEMS) developed by the Conservation Biology Institute (CBI). EEMS is a flexible, data-driven framework that uses fuzzy logic to integrate various spatial data layers and assess complex environmental and planning questions. It allows for the combination of different types of data (e.g., ecological, infrastructure, land use) to produce a suitability map. The logic of The Solar Development Suitability Model aimed at depicting relative physical suitability for utility scale passive solar development. At a high level of this hierarchical model, high development suitability was defined by characteristics such as terrain (slope and aspect) and soil conditions, high proximity to existing road and transmission infrastructure, and to a lesser degree potential hazards (i.e., wildfire and earthquakes). The values of The Solar Development Suitability Model ranged from -1 (highly unsuitable) to 1 (highly suitable). We extracted only the positive values by setting all negative values to 0. We then multiplied this layer by the rescaled (0-1) connectivity value surface, representing areas with relatively high connectivity (portions of the original connectivity surface with values exceeding the 30th percentile). The resulting layer assigned higher values to areas of high connectivity threatened by solar development. We then used this final multiplication layer to compute a kernel density surface. Similarly to the residential development analyses, we applied a kernel cost-weighted distance of 79,200.",
 "name": "HP_WAHCAP/SolarRisk",
 "description": "Areas of both high connectivity value and solar development risk developed for the Washington Habitat Connectivity Action Plan.To identify focal connectivity areas with a high threat of solar development we used The Solar Development Suitability Model for Columbia Plateau created by a mapping group for the Least-Conflict Solar Project managed by Washington State University Energy Program (https://www.energy.wsu.edu/RenewableEnergy/LeastConflictSolarSiting.aspx). The model was built using Environmental Evaluation Modeling System (EEMS) developed by the Conservation Biology Institute (CBI). EEMS is a flexible, data-driven framework that uses fuzzy logic to integrate various spatial data layers and assess complex environmental and planning questions. It allows for the combination of different types of data (e.g., ecological, infrastructure, land use) to produce a suitability map. The logic of The Solar Development Suitability Model aimed at depicting relative physical suitability for utility scale passive solar development. At a high level of this hierarchical model, high development suitability was defined by characteristics such as terrain (slope and aspect) and soil conditions, high proximity to existing road and transmission infrastructure, and to a lesser degree potential hazards (i.e., wildfire and earthquakes). The values of The Solar Development Suitability Model ranged from -1 (highly unsuitable) to 1 (highly suitable). We extracted only the positive values by setting all negative values to 0. We then multiplied this layer by the rescaled (0-1) connectivity value surface, representing areas with relatively high connectivity (portions of the original connectivity surface with values exceeding the 30th percentile). The resulting layer assigned higher values to areas of high connectivity threatened by solar development. We then used this final multiplication layer to compute a kernel density surface. Similarly to the residential development analyses, we applied a kernel cost-weighted distance of 79,200.",
 "extent": {
  "xmin": 600542.2103022073,
  "ymin": 83558.26049690112,
  "xmax": 2548862.210302207,
  "ymax": 1356038.260496901,
  "spatialReference": {
   "wkid": 2927,
   "latestWkid": 2927
  }
 },
 "initialExtent": {
  "xmin": 600542.2103022073,
  "ymin": 83558.26049690112,
  "xmax": 2548862.210302207,
  "ymax": 1356038.260496901,
  "spatialReference": {
   "wkid": 2927,
   "latestWkid": 2927
  }
 },
 "fullExtent": {
  "xmin": 600542.2103022073,
  "ymin": 83558.26049690112,
  "xmax": 2548862.210302207,
  "ymax": 1356038.260496901,
  "spatialReference": {
   "wkid": 2927,
   "latestWkid": 2927
  }
 },
 "sortableFields": "",
 "bandCount": 1,
 "pixelType": "F32",
 "minValues": [
  0
 ],
 "maxValues": [
  0.5358530879020691
 ],
 "meanValues": [
  0.010804678888509625
 ],
 "stdvValues": [
  0.04151707538181991
 ],
 "hasMultidimensions": false,
 "pixelSizeX": 5280,
 "pixelSizeY": 5280,
 "datasetFormat": "FGDBR",
 "uncompressedSize": 355716,
 "blockWidth": 128,
 "blockHeight": 128,
 "compressionType": "LZ77",
 "bandNames": [
  "Band_1"
 ],
 "allowCopy": false,
 "allowAnalysis": true,
 "itemAccess": false,
 "minPixelSize": 0,
 "maxPixelSize": 0,
 "copyrightText": "This layer was developed for the 2025 Washington Habitat Connectivity Action Plan by the Washington Department of Fish and Wildlife (WDFW) and the Conservation Biology Institute (https://www.consbio.org/). WDFW modified the solar suitability layer that CBI created for the Least-Conflict Solar Siting project (https://www.energy.wsu.edu/RenewableEnergy/LeastConflictSolarSiting.aspx).",
 "serviceDataType": "esriImageServiceDataTypeGeneric",
 "serviceSourceType": "esriImageServiceSourceTypeDataset",
 "objectIdField": "",
 "fields": [],
 "capabilities": "Image,Metadata,Mensuration",
 "defaultMosaicMethod": "Center",
 "allowedMosaicMethods": "",
 "sortField": "",
 "sortValue": null,
 "sortAscending": true,
 "mosaicOperator": "First",
 "defaultCompressionQuality": 75,
 "defaultResamplingMethod": "Nearest",
 "maxImageHeight": 4100,
 "maxImageWidth": 15000,
 "allowRasterFunction": true,
 "rasterFunctionInfos": [
  {
   "name": "None",
   "description": "",
   "help": ""
  }
 ],
 "rasterTypeInfos": [
  {
   "name": "Raster Dataset",
   "description": "Supports all ArcGIS Raster Datasets",
   "help": ""
  }
 ],
 "mensurationCapabilities": "Basic",
 "hasHistograms": true,
 "hasColormap": false,
 "hasRasterAttributeTable": false,
 "minScale": 0,
 "maxScale": 0,
 "exportTilesAllowed": false,
 "supportsStatistics": false,
 "supportsAdvancedQueries": false,
 "editFieldsInfo": null,
 "ownershipBasedAccessControlForRasters": null,
 "allowComputeTiePoints": false,
 "useStandardizedQueries": true,
 "advancedQueryCapabilities": {
  "useStandardizedQueries": true,
  "supportsStatistics": false,
  "supportsOrderBy": false,
  "supportsDistinct": false,
  "supportsPagination": false
 },
 "spatialReference": {
  "wkid": 2927,
  "latestWkid": 2927
 }
}
