{ "currentVersion": 11.1, "serviceDescription": "
Species of Greatest Conservation Need ranges at a HUC 12 resolution from the Washington Department of Fish and Wildlife's 2015 State Wildlife Action Plan (SWAP). Layer represents a weighted sum of species in each HUC as described in the Washington Habitat Connectivity Action Plan report.<\/SPAN><\/P> We included mapped range data for 83 Species of Greatest Conservation Need (SGCN) identified in the 2015 State Wildlife Action Plan (SWAP) that had documented occurrences and associated spatial range data (REF). To ensure data accuracy, we exclusively utilized observed species ranges, defined using WDFW occurrence data collected between 1978 and 2015 and delineated based on the USGS Hydrologic Unit Code (HUC) 12 watershed classification system. A HUC 12 watershed was considered part of a species' initial range if species occurrence was recorded within it. These preliminary ranges were subsequently reviewed and refined by WDFW species experts to represent the most current and certain depiction of recently occupied habitat. Detailed methodology regarding the development of SGCN ranges can be found in Appendix B of the 2015 SWAP.<\/SPAN><\/P> Species were ranked based on their Federal and State protection status and inclusion in the WDFW Priority Habitats and Species (PHS) list. The highest rank of 1 was assigned to species with the strongest Federal and State protection, while the lowest rank of 0.3 was given to SGCN species not listed in PHS. Although all flying birds were retained in the analysis, their final ranking score was downweighed to 0.75 due to the plan's focus on terrestrial connectivity. Similarly, a weight of 0.75 was applied to the ranking of species already represented in our focal species cores and corridors layers. <\/SPAN><\/P> In the final SGCN layer the species ranges were added up according to their final ranking. The layer was then rescaled between 0-1 (1-representing pixels with the highest number of species with the highest ranking) and resampled to 1mi grid. <\/SPAN><\/P><\/DIV>",
"name": "HP_WAHCAP/SGCN_p27",
"description": " Species of Greatest Conservation Need ranges at a HUC 12 resolution from the Washington Department of Fish and Wildlife's 2015 State Wildlife Action Plan (SWAP). Layer represents a weighted sum of species in each HUC as described in the Washington Habitat Connectivity Action Plan report.<\/span><\/p> We included mapped range data for 83 Species of Greatest Conservation Need (SGCN) identified in the 2015 State Wildlife Action Plan (SWAP) that had documented occurrences and associated spatial range data (REF). To ensure data accuracy, we exclusively utilized observed species ranges, defined using WDFW occurrence data collected between 1978 and 2015 and delineated based on the USGS Hydrologic Unit Code (HUC) 12 watershed classification system. A HUC 12 watershed was considered part of a species' initial range if species occurrence was recorded within it. These preliminary ranges were subsequently reviewed and refined by WDFW species experts to represent the most current and certain depiction of recently occupied habitat. Detailed methodology regarding the development of SGCN ranges can be found in Appendix B of the 2015 SWAP.<\/span><\/p> Species were ranked based on their Federal and State protection status and inclusion in the WDFW Priority Habitats and Species (PHS) list. The highest rank of 1 was assigned to species with the strongest Federal and State protection, while the lowest rank of 0.3 was given to SGCN species not listed in PHS. Although all flying birds were retained in the analysis, their final ranking score was downweighed to 0.75 due to the plan's focus on terrestrial connectivity. Similarly, a weight of 0.75 was applied to the ranking of species already represented in our focal species cores and corridors layers. <\/span><\/p> In the final SGCN layer the species ranges were added up according to their final ranking. The layer was then rescaled between 0-1 (1-representing pixels with the highest number of species with the highest ranking) and resampled to 1mi grid. <\/span><\/p><\/div>",
"extent": {
"xmin": 600542.2106358111,
"ymin": 83558.26049664617,
"xmax": 2548869.0447580772,
"ymax": 1355999.2461764975,
"spatialReference": {
"wkid": 2927,
"latestWkid": 2927
}
},
"initialExtent": {
"xmin": 600542.2106358111,
"ymin": 83558.26049664617,
"xmax": 2548869.0447580772,
"ymax": 1355999.2461764975,
"spatialReference": {
"wkid": 2927,
"latestWkid": 2927
}
},
"fullExtent": {
"xmin": 600542.2106358111,
"ymin": 83558.26049664617,
"xmax": 2548869.0447580772,
"ymax": 1355999.2461764975,
"spatialReference": {
"wkid": 2927,
"latestWkid": 2927
}
},
"sortableFields": "",
"bandCount": 1,
"pixelType": "F32",
"minValues": [
0
],
"maxValues": [
1
],
"meanValues": [
0.25465419257529087
],
"stdvValues": [
0.18132499449824696
],
"hasMultidimensions": false,
"pixelSizeX": 98.42520000617662,
"pixelSizeY": 98.42520000617662,
"datasetFormat": "FGDBR",
"uncompressedSize": 1023639040,
"blockWidth": 128,
"blockHeight": 128,
"compressionType": "LZ77",
"bandNames": [
"Band_1"
],
"allowCopy": true,
"allowAnalysis": true,
"itemAccess": false,
"minPixelSize": 0,
"maxPixelSize": 0,
"copyrightText": "This layer was developed for the 2025 Washington Habitat Connectivity Action Plan by the Washington Department of Fish and Wildlife (WDFW).",
"serviceDataType": "esriImageServiceDataTypeGeneric",
"serviceSourceType": "esriImageServiceSourceTypeDataset",
"objectIdField": "",
"fields": [],
"capabilities": "Image,Metadata,Mensuration",
"defaultMosaicMethod": "Center",
"allowedMosaicMethods": "",
"sortField": "",
"sortValue": null,
"sortAscending": true,
"mosaicOperator": "First",
"defaultCompressionQuality": 75,
"defaultResamplingMethod": "Nearest",
"maxImageHeight": 4100,
"maxImageWidth": 15000,
"allowRasterFunction": true,
"rasterFunctionInfos": [
{
"name": "None",
"description": "",
"help": ""
}
],
"rasterTypeInfos": [
{
"name": "Raster Dataset",
"description": "Supports all ArcGIS Raster Datasets",
"help": ""
}
],
"mensurationCapabilities": "Basic",
"hasHistograms": true,
"hasColormap": false,
"hasRasterAttributeTable": false,
"minScale": 0,
"maxScale": 0,
"exportTilesAllowed": false,
"supportsStatistics": false,
"supportsAdvancedQueries": false,
"editFieldsInfo": null,
"ownershipBasedAccessControlForRasters": null,
"allowComputeTiePoints": false,
"useStandardizedQueries": true,
"advancedQueryCapabilities": {
"useStandardizedQueries": true,
"supportsStatistics": false,
"supportsOrderBy": false,
"supportsDistinct": false,
"supportsPagination": false
},
"spatialReference": {
"wkid": 2927,
"latestWkid": 2927
}
}