{ "currentVersion": 11.1, "serviceDescription": "
Areas of high connectivity value and where they overlap with areas of high residential development and high risk of solar development, developed for the Washington Habitat Connectivity Action Plan.<\/SPAN><\/P> This layer combines data from three analyses:<\/SPAN><\/P> 1) Areas where high connectivity values were aggregated into homogenous patches.<\/SPAN><\/P> We used the landscape connectivity surface to identify areas with high connectivity values that were aggregated into homogenous patches. To achieve this we applied a cost-kernel approach to a set of source points which were selected probabilistically proportional to the landscape connectivity surface values. The kernel analysis penalized spread as a nonlinear function of connectivity value, such that the kernel spreads farther through areas of continuously high connectivity value and spreads shorter distances in areas of low connectivity value. This produced a kernel density surface showing areas of high connectivity value that are aggregated across the landscape. <\/SPAN><\/P> 2) Areas of both high connectivity value and residential development risk.<\/SPAN><\/P> To identify areas with concentrated extents of high connectivity value which are also facing significant threat from potential housing and residential development, we applied kernel density analyses following the methodology detailed in the preceding section by adjusting the cost surface to account for the development.<\/SPAN><\/P> To specifically quantify areas under high development pressure, we employed the Mann-Kendall Index. This non-parametric test was computed to detect statistically significant monotonic trends in a 30-year Landsat satellite image time series. For each landscape unit, the Mann-Kendall Index yielded a value where positive indices indicated an increasing trend in development pressure. We rescaled the positive index values to a range of 0 to 1, with 1 representing the highest development pressure.<\/SPAN><\/P> This rescaled development pressure layer was subsequently integrated with areas of relatively high connectivity. To achieve this, we selected portions of the original connectivity surface with values exceeding the 30th percentile (connectivity value > 8) and rescaling it to a 0-to-1 range, where 1 denoted the highest connectivity within this subset.<\/SPAN><\/P> Finally, we multiplied the rescaled development pressure layer by the rescaled high-connectivity layer. The resulting surface, ranging from 0 to 1, represented the spatial congruence of high development threat and high connectivity, signifying areas of heightened vulnerability.<\/SPAN><\/P> We used the multiplication layer as the base to generate source locations and \u2019cost surface\u2019 to fit and compute kernel density. We set the kernel cost-weighted distance at 79,200 \u2013 an equivalent of 15 mi in uniform landscape with the lowest cost defined by highest development and connectivity values <\/SPAN><\/P> 3) Areas of both high connectivity value and solar development risk.<\/SPAN><\/P> To identify focal connectivity areas with a high threat of solar development we used The Solar Development Suitability Model for Columbia Plateau created by a mapping group for the Least-Conflict Solar Project managed by Washington State University Energy Program (https://www.energy.wsu.edu/RenewableEnergy/LeastConflictSolarSiting.aspx). The model was built using Environmental Evaluation Modeling System (EEMS) developed by the Conservation Biology Institute (CBI). EEMS is a flexible, data-driven framework that uses fuzzy logic to integrate various spatial data layers and assess complex environmental and planning questions. It allows for the combination of different types of data (e.g., ecological, infrastructure, land use) to produce a suitability map. The logic of The Solar Development Suitability Model aimed at depicting relative physical suitability for utility scale passive solar development. At a high level of this hierarchical model, high development suitability was defined by characteristics such as terrain (slope and aspect) and soil conditions, high proximity to existing road and transmission infrastructure, and to a lesser degree potential hazards (i.e., wildfire and earthquakes). <\/SPAN><\/P> The values of The Solar Development Suitability Model ranged from -1 (highly unsuitable) to 1 (highly suitable). We extracted only the positive values by setting all negative values to 0. We then multiplied this layer by the rescaled (0-1) connectivity value surface, representing areas with relatively high connectivity (portions of the original connectivity surface with values exceeding the 30th percentile). The resulting layer assigned higher values to areas of high connectivity threatened by solar development. <\/SPAN><\/P> We then used this final multiplication layer to compute a kernel density surface. Similarly to the residential development analyses, we applied a kernel cost-weighted distance of 79,200.<\/SPAN><\/P><\/DIV>",
"name": "HP_WAHCAP/Priority_Clusters",
"description": " Areas of high connectivity value and where they overlap with areas of high residential development and high risk of solar development, developed for the Washington Habitat Connectivity Action Plan.<\/span><\/p> This layer combines data from three analyses:<\/span><\/p> 1) Areas where high connectivity values were aggregated into homogenous patches.<\/span><\/p> We used the landscape connectivity surface to identify areas with high connectivity values that were aggregated into homogenous patches. To achieve this we applied a cost-kernel approach to a set of source points which were selected probabilistically proportional to the landscape connectivity surface values. The kernel analysis penalized spread as a nonlinear function of connectivity value, such that the kernel spreads farther through areas of continuously high connectivity value and spreads shorter distances in areas of low connectivity value. This produced a kernel density surface showing areas of high connectivity value that are aggregated across the landscape. <\/span><\/p> 2) Areas of both high connectivity value and residential development risk.<\/span><\/p> To identify areas with concentrated extents of high connectivity value which are also facing significant threat from potential housing and residential development, we applied kernel density analyses following the methodology detailed in the preceding section by adjusting the cost surface to account for the development.<\/span><\/p> To specifically quantify areas under high development pressure, we employed the Mann-Kendall Index. This non-parametric test was computed to detect statistically significant monotonic trends in a 30-year Landsat satellite image time series. For each landscape unit, the Mann-Kendall Index yielded a value where positive indices indicated an increasing trend in development pressure. We rescaled the positive index values to a range of 0 to 1, with 1 representing the highest development pressure.<\/span><\/p> This rescaled development pressure layer was subsequently integrated with areas of relatively high connectivity. To achieve this, we selected portions of the original connectivity surface with values exceeding the 30th percentile (connectivity value > 8) and rescaling it to a 0-to-1 range, where 1 denoted the highest connectivity within this subset.<\/span><\/p> Finally, we multiplied the rescaled development pressure layer by the rescaled high-connectivity layer. The resulting surface, ranging from 0 to 1, represented the spatial congruence of high development threat and high connectivity, signifying areas of heightened vulnerability.<\/span><\/p> We used the multiplication layer as the base to generate source locations and \u2019cost surface\u2019 to fit and compute kernel density. We set the kernel cost-weighted distance at 79,200 \u2013 an equivalent of 15 mi in uniform landscape with the lowest cost defined by highest development and connectivity values <\/span><\/p> 3) Areas of both high connectivity value and solar development risk.<\/span><\/p> To identify focal connectivity areas with a high threat of solar development we used The Solar Development Suitability Model for Columbia Plateau created by a mapping group for the Least-Conflict Solar Project managed by Washington State University Energy Program (https://www.energy.wsu.edu/RenewableEnergy/LeastConflictSolarSiting.aspx). The model was built using Environmental Evaluation Modeling System (EEMS) developed by the Conservation Biology Institute (CBI). EEMS is a flexible, data-driven framework that uses fuzzy logic to integrate various spatial data layers and assess complex environmental and planning questions. It allows for the combination of different types of data (e.g., ecological, infrastructure, land use) to produce a suitability map. The logic of The Solar Development Suitability Model aimed at depicting relative physical suitability for utility scale passive solar development. At a high level of this hierarchical model, high development suitability was defined by characteristics such as terrain (slope and aspect) and soil conditions, high proximity to existing road and transmission infrastructure, and to a lesser degree potential hazards (i.e., wildfire and earthquakes). <\/span><\/p> The values of The Solar Development Suitability Model ranged from -1 (highly unsuitable) to 1 (highly suitable). We extracted only the positive values by setting all negative values to 0. We then multiplied this layer by the rescaled (0-1) connectivity value surface, representing areas with relatively high connectivity (portions of the original connectivity surface with values exceeding the 30th percentile). The resulting layer assigned higher values to areas of high connectivity threatened by solar development. <\/span><\/p> We then used this final multiplication layer to compute a kernel density surface. Similarly to the residential development analyses, we applied a kernel cost-weighted distance of 79,200.<\/span><\/p><\/div>",
"extent": {
"xmin": 600542.2103024758,
"ymin": 83558.26049663522,
"xmax": 2548862.210302476,
"ymax": 1356038.2604966352,
"spatialReference": {
"wkid": 2927,
"latestWkid": 2927
}
},
"initialExtent": {
"xmin": 600542.2103024758,
"ymin": 83558.26049663522,
"xmax": 2548862.210302476,
"ymax": 1356038.2604966352,
"spatialReference": {
"wkid": 2927,
"latestWkid": 2927
}
},
"fullExtent": {
"xmin": 600542.2103024758,
"ymin": 83558.26049663522,
"xmax": 2548862.210302476,
"ymax": 1356038.2604966352,
"spatialReference": {
"wkid": 2927,
"latestWkid": 2927
}
},
"sortableFields": "",
"bandCount": 1,
"pixelType": "F32",
"minValues": [
0
],
"maxValues": [
110
],
"meanValues": [
12.01774778524288
],
"stdvValues": [
29.92347599452415
],
"hasMultidimensions": false,
"pixelSizeX": 5280,
"pixelSizeY": 5280,
"datasetFormat": "FGDBR",
"uncompressedSize": 355716,
"blockWidth": 128,
"blockHeight": 128,
"compressionType": "LZ77",
"bandNames": [
"Band_1"
],
"allowCopy": true,
"allowAnalysis": true,
"itemAccess": false,
"minPixelSize": 0,
"maxPixelSize": 0,
"copyrightText": "This layer was developed for the 2025 Washington Habitat Connectivity Action Plan by the Washington Department of Fish and Wildlife (WDFW) and also incorporates data generated by the Conservation Biology Institute (https://www.consbio.org/) and TerrAdapt (https://terradapt.org/).",
"serviceDataType": "esriImageServiceDataTypeGeneric",
"serviceSourceType": "esriImageServiceSourceTypeDataset",
"objectIdField": "",
"fields": [],
"capabilities": "Image,Metadata,Mensuration",
"defaultMosaicMethod": "Center",
"allowedMosaicMethods": "",
"sortField": "",
"sortValue": null,
"sortAscending": true,
"mosaicOperator": "First",
"defaultCompressionQuality": 75,
"defaultResamplingMethod": "Nearest",
"maxImageHeight": 4100,
"maxImageWidth": 15000,
"allowRasterFunction": true,
"rasterFunctionInfos": [
{
"name": "None",
"description": "",
"help": ""
}
],
"rasterTypeInfos": [
{
"name": "Raster Dataset",
"description": "Supports all ArcGIS Raster Datasets",
"help": ""
}
],
"mensurationCapabilities": "Basic",
"hasHistograms": true,
"hasColormap": false,
"hasRasterAttributeTable": false,
"minScale": 0,
"maxScale": 0,
"exportTilesAllowed": false,
"supportsStatistics": false,
"supportsAdvancedQueries": false,
"editFieldsInfo": null,
"ownershipBasedAccessControlForRasters": null,
"allowComputeTiePoints": false,
"useStandardizedQueries": true,
"advancedQueryCapabilities": {
"useStandardizedQueries": true,
"supportsStatistics": false,
"supportsOrderBy": false,
"supportsDistinct": false,
"supportsPagination": false
},
"spatialReference": {
"wkid": 2927,
"latestWkid": 2927
}
}