{
 "currentVersion": 11.1,
 "serviceDescription": "HP_WAHCAP/Landscape_Connectivity",
 "name": "HP_WAHCAP/Landscape_Connectivity",
 "description": "",
 "extent": {
  "xmin": 600542.2106358111,
  "ymin": 83558.26049664617,
  "xmax": 2548862.210635811,
  "ymax": 1356038.2604966462,
  "spatialReference": {
   "wkt": "PROJCS[\"NAD_1983_StatePlane_Washington_South_FIPS_4602_Feet\",GEOGCS[\"GCS_North_American_1983\",DATUM[\"D_North_American_1983\",SPHEROID[\"GRS_1980\",6378137.0,298.257222101]],PRIMEM[\"Greenwich\",0.0],UNIT[\"Degree\",0.0174532925199433]],PROJECTION[\"Lambert_Conformal_Conic\"],PARAMETER[\"False_Easting\",1640416.667],PARAMETER[\"False_Northing\",0.0],PARAMETER[\"Central_Meridian\",-120.5],PARAMETER[\"Standard_Parallel_1\",45.8333333333333],PARAMETER[\"Standard_Parallel_2\",47.3333333333333],PARAMETER[\"Latitude_Of_Origin\",45.3333333333333],UNIT[\"Foot_US\",0.3048006096012192]]"
  }
 },
 "initialExtent": {
  "xmin": 600542.2106358111,
  "ymin": 83558.26049664617,
  "xmax": 2548862.210635811,
  "ymax": 1356038.2604966462,
  "spatialReference": {
   "wkt": "PROJCS[\"NAD_1983_StatePlane_Washington_South_FIPS_4602_Feet\",GEOGCS[\"GCS_North_American_1983\",DATUM[\"D_North_American_1983\",SPHEROID[\"GRS_1980\",6378137.0,298.257222101]],PRIMEM[\"Greenwich\",0.0],UNIT[\"Degree\",0.0174532925199433]],PROJECTION[\"Lambert_Conformal_Conic\"],PARAMETER[\"False_Easting\",1640416.667],PARAMETER[\"False_Northing\",0.0],PARAMETER[\"Central_Meridian\",-120.5],PARAMETER[\"Standard_Parallel_1\",45.8333333333333],PARAMETER[\"Standard_Parallel_2\",47.3333333333333],PARAMETER[\"Latitude_Of_Origin\",45.3333333333333],UNIT[\"Foot_US\",0.3048006096012192]]"
  }
 },
 "fullExtent": {
  "xmin": 600542.2106358111,
  "ymin": 83558.26049664617,
  "xmax": 2548862.210635811,
  "ymax": 1356038.2604966462,
  "spatialReference": {
   "wkt": "PROJCS[\"NAD_1983_StatePlane_Washington_South_FIPS_4602_Feet\",GEOGCS[\"GCS_North_American_1983\",DATUM[\"D_North_American_1983\",SPHEROID[\"GRS_1980\",6378137.0,298.257222101]],PRIMEM[\"Greenwich\",0.0],UNIT[\"Degree\",0.0174532925199433]],PROJECTION[\"Lambert_Conformal_Conic\"],PARAMETER[\"False_Easting\",1640416.667],PARAMETER[\"False_Northing\",0.0],PARAMETER[\"Central_Meridian\",-120.5],PARAMETER[\"Standard_Parallel_1\",45.8333333333333],PARAMETER[\"Standard_Parallel_2\",47.3333333333333],PARAMETER[\"Latitude_Of_Origin\",45.3333333333333],UNIT[\"Foot_US\",0.3048006096012192]]"
  }
 },
 "sortableFields": "",
 "bandCount": 1,
 "pixelType": "F32",
 "minValues": [
  0.004174706060439348
 ],
 "maxValues": [
  24.011842727661133
 ],
 "meanValues": [
  11.661112924351032
 ],
 "stdvValues": [
  5.732357214478784
 ],
 "hasMultidimensions": false,
 "pixelSizeX": 5280,
 "pixelSizeY": 5280,
 "datasetFormat": "FGDBR",
 "uncompressedSize": 355716,
 "blockWidth": 128,
 "blockHeight": 128,
 "compressionType": "NONE",
 "bandNames": [
  "Band_1"
 ],
 "allowCopy": true,
 "allowAnalysis": true,
 "itemAccess": false,
 "minPixelSize": 0,
 "maxPixelSize": 0,
 "copyrightText": "",
 "serviceDataType": "esriImageServiceDataTypeGeneric",
 "serviceSourceType": "esriImageServiceSourceTypeDataset",
 "objectIdField": "",
 "fields": [],
 "capabilities": "Image,Metadata,Mensuration",
 "defaultMosaicMethod": "Center",
 "allowedMosaicMethods": "",
 "sortField": "",
 "sortValue": null,
 "sortAscending": true,
 "mosaicOperator": "First",
 "defaultCompressionQuality": 75,
 "defaultResamplingMethod": "Nearest",
 "maxImageHeight": 4100,
 "maxImageWidth": 15000,
 "allowRasterFunction": true,
 "rasterFunctionInfos": [
  {
   "name": "None",
   "description": "",
   "help": ""
  }
 ],
 "rasterTypeInfos": [
  {
   "name": "Raster Dataset",
   "description": "Supports all ArcGIS Raster Datasets",
   "help": ""
  }
 ],
 "mensurationCapabilities": "Basic",
 "hasHistograms": true,
 "hasColormap": false,
 "hasRasterAttributeTable": false,
 "minScale": 0,
 "maxScale": 0,
 "exportTilesAllowed": false,
 "supportsStatistics": false,
 "supportsAdvancedQueries": false,
 "editFieldsInfo": null,
 "ownershipBasedAccessControlForRasters": null,
 "allowComputeTiePoints": false,
 "useStandardizedQueries": true,
 "advancedQueryCapabilities": {
  "useStandardizedQueries": true,
  "supportsStatistics": false,
  "supportsOrderBy": false,
  "supportsDistinct": false,
  "supportsPagination": false
 },
 "spatialReference": {
  "wkt": "PROJCS[\"NAD_1983_StatePlane_Washington_South_FIPS_4602_Feet\",GEOGCS[\"GCS_North_American_1983\",DATUM[\"D_North_American_1983\",SPHEROID[\"GRS_1980\",6378137.0,298.257222101]],PRIMEM[\"Greenwich\",0.0],UNIT[\"Degree\",0.0174532925199433]],PROJECTION[\"Lambert_Conformal_Conic\"],PARAMETER[\"False_Easting\",1640416.667],PARAMETER[\"False_Northing\",0.0],PARAMETER[\"Central_Meridian\",-120.5],PARAMETER[\"Standard_Parallel_1\",45.8333333333333],PARAMETER[\"Standard_Parallel_2\",47.3333333333333],PARAMETER[\"Latitude_Of_Origin\",45.3333333333333],UNIT[\"Foot_US\",0.3048006096012192]]"
 }
}
