{ "currentVersion": 11.1, "serviceDescription": "
Landscape Permeability developed by TerrAdapt for the Washington Habitat Connectivity Action Plan. This model assessed the degree to which each pixel was connected to its neighbors, highlighting opportunities for local movements regardless of the presence of defined cores.<\/SPAN><\/P> The least-cost corridor models represented the most efficient routes between core areas given the resistance in the landscape. However, the distribution of corridors is highly sensitive to the location of the core areas, and habitat outside of cores is not represented as a source for movement in core-corridor models. As a complementary alternative method to map connectivity that does not depend on first mapping core areas, we used permeability models. This method assesses the degree to which a pixel is connected to its neighbors in a probabilistic way. We used the resistance model for each ecosystem as the input after rescaling it to range from 0 to 1 as resistance decreased from 150 to 1. Thus, pixels with the minimum resistance (1) were always included in the calculation. For pixels with a probability of less than 1, they were compared to a random number per pixel. If the probability exceeded the random number, the pixel was retained, otherwise, it was dropped. Then, we calculate the patch size of all retained pixels that were contiguous. Finally, we summarized the patch sizes across 300 replicate runs, each with a different randomly generated probability surface. The result represents the spectrum of areas that are always connected (contiguous patches of the lowest resistance value) and areas that are increasingly less likely to be connected due to the resistance in the landscape.<\/SPAN><\/P><\/DIV><\/DIV><\/DIV>",
"name": "HP_WAHCAP/LandscapePermeability",
"description": " Landscape Permeability developed by TerrAdapt for the Washington Habitat Connectivity Action Plan. This model assessed the degree to which each pixel was connected to its neighbors, highlighting opportunities for local movements regardless of the presence of defined cores.<\/span><\/p> The least-cost corridor models represented the most efficient routes between core areas given the resistance in the landscape. However, the distribution of corridors is highly sensitive to the location of the core areas, and habitat outside of cores is not represented as a source for movement in core-corridor models. As a complementary alternative method to map connectivity that does not depend on first mapping core areas, we used permeability models. This method assesses the degree to which a pixel is connected to its neighbors in a probabilistic way. We used the resistance model for each ecosystem as the input after rescaling it to range from 0 to 1 as resistance decreased from 150 to 1. Thus, pixels with the minimum resistance (1) were always included in the calculation. For pixels with a probability of less than 1, they were compared to a random number per pixel. If the probability exceeded the random number, the pixel was retained, otherwise, it was dropped. Then, we calculate the patch size of all retained pixels that were contiguous. Finally, we summarized the patch sizes across 300 replicate runs, each with a different randomly generated probability surface. The result represents the spectrum of areas that are always connected (contiguous patches of the lowest resistance value) and areas that are increasingly less likely to be connected due to the resistance in the landscape.<\/span><\/p><\/div><\/div><\/div>",
"extent": {
"xmin": 559053.9999995996,
"ymin": -84973.58333282918,
"xmax": 2982605.5833329326,
"ymax": 2686018.250000504,
"spatialReference": {
"wkid": 2927,
"latestWkid": 2927
}
},
"initialExtent": {
"xmin": 559053.9999995996,
"ymin": -84973.58333282918,
"xmax": 2982605.5833329326,
"ymax": 2686018.250000504,
"spatialReference": {
"wkid": 2927,
"latestWkid": 2927
}
},
"fullExtent": {
"xmin": 559053.9999995996,
"ymin": -84973.58333282918,
"xmax": 2982605.5833329326,
"ymax": 2686018.250000504,
"spatialReference": {
"wkid": 2927,
"latestWkid": 2927
}
},
"sortableFields": "",
"bandCount": 1,
"pixelType": "U8",
"minValues": [
0
],
"maxValues": [
100
],
"meanValues": [
54.69779807542168
],
"stdvValues": [
40.07594231469519
],
"hasMultidimensions": false,
"pixelSizeX": 328.0833333333333,
"pixelSizeY": 328.0833333333333,
"datasetFormat": "FGDBR",
"uncompressedSize": 62382156,
"blockWidth": 128,
"blockHeight": 128,
"compressionType": "LZ77",
"bandNames": [
"Band_1"
],
"allowCopy": true,
"allowAnalysis": true,
"itemAccess": false,
"minPixelSize": 0,
"maxPixelSize": 0,
"copyrightText": "This layer was developed for the 2025 Washington Habitat Connectivity Action Plan by TerrAdapt (https://terradapt.org/).",
"serviceDataType": "esriImageServiceDataTypeGeneric",
"serviceSourceType": "esriImageServiceSourceTypeDataset",
"objectIdField": "",
"fields": [],
"capabilities": "Image,Metadata,Mensuration",
"defaultMosaicMethod": "Center",
"allowedMosaicMethods": "",
"sortField": "",
"sortValue": null,
"sortAscending": true,
"mosaicOperator": "First",
"defaultCompressionQuality": 75,
"defaultResamplingMethod": "Nearest",
"maxImageHeight": 4100,
"maxImageWidth": 15000,
"allowRasterFunction": true,
"rasterFunctionInfos": [
{
"name": "None",
"description": "",
"help": ""
}
],
"rasterTypeInfos": [
{
"name": "Raster Dataset",
"description": "Supports all ArcGIS Raster Datasets",
"help": ""
}
],
"mensurationCapabilities": "Basic",
"hasHistograms": true,
"hasColormap": false,
"hasRasterAttributeTable": false,
"minScale": 0,
"maxScale": 0,
"exportTilesAllowed": false,
"supportsStatistics": false,
"supportsAdvancedQueries": false,
"editFieldsInfo": null,
"ownershipBasedAccessControlForRasters": null,
"allowComputeTiePoints": false,
"useStandardizedQueries": true,
"advancedQueryCapabilities": {
"useStandardizedQueries": true,
"supportsStatistics": false,
"supportsOrderBy": false,
"supportsDistinct": false,
"supportsPagination": false
},
"spatialReference": {
"wkid": 2927,
"latestWkid": 2927
}
}