{ "currentVersion": 11.1, "serviceDescription": "
Focal Species Cores and Corridors 20 mile moving window for the Washington Habitat Connectivity Action Plan. This layer applied a 20 mile moving window filter on the raw Focal Species Cores and Corridors layer. For each 1-mile grid cell, this filter calculated a normalized score by dividing the cell's original score by the highest score found within its surrounding 20-mile neighborhood. This process highlights cells with high values relative to their immediate vicinity. Values where then rescaled between 0 and 1. <\/SPAN><\/P><\/DIV>",
"name": "HP_WAHCAP/FocalSpecies20MW",
"description": " Focal Species Cores and Corridors 20 mile moving window for the Washington Habitat Connectivity Action Plan. This layer applied a 20 mile moving window filter on the raw Focal Species Cores and Corridors layer. For each 1-mile grid cell, this filter calculated a normalized score by dividing the cell's original score by the highest score found within its surrounding 20-mile neighborhood. This process highlights cells with high values relative to their immediate vicinity. Values where then rescaled between 0 and 1. <\/span><\/p><\/div>",
"extent": {
"xmin": 600542.2103022108,
"ymin": 78278.28616055124,
"xmax": 2554142.1255454835,
"ymax": 1356038.2604969135,
"spatialReference": {
"wkid": 2927,
"latestWkid": 2927
}
},
"initialExtent": {
"xmin": 600542.2103022108,
"ymin": 78278.28616055124,
"xmax": 2554142.1255454835,
"ymax": 1356038.2604969135,
"spatialReference": {
"wkid": 2927,
"latestWkid": 2927
}
},
"fullExtent": {
"xmin": 600542.2103022108,
"ymin": 78278.28616055124,
"xmax": 2554142.1255454835,
"ymax": 1356038.2604969135,
"spatialReference": {
"wkid": 2927,
"latestWkid": 2927
}
},
"sortableFields": "",
"bandCount": 1,
"pixelType": "F32",
"minValues": [
0
],
"maxValues": [
3.071016788482666
],
"meanValues": [
0.8895564142997208
],
"stdvValues": [
0.47797538022337105
],
"hasMultidimensions": false,
"pixelSizeX": 5279.999770927764,
"pixelSizeY": 5279.99989395191,
"datasetFormat": "FGDBR",
"uncompressedSize": 358160,
"blockWidth": 128,
"blockHeight": 128,
"compressionType": "LZ77",
"bandNames": [
"Band_1"
],
"allowCopy": true,
"allowAnalysis": true,
"itemAccess": false,
"minPixelSize": 0,
"maxPixelSize": 0,
"copyrightText": "This layer was developed for the 2025 Washington Habitat Connectivity Action Plan by the Washington Department of Fish and Wildlife (WDFW).",
"serviceDataType": "esriImageServiceDataTypeGeneric",
"serviceSourceType": "esriImageServiceSourceTypeDataset",
"objectIdField": "",
"fields": [],
"capabilities": "Image,Metadata,Mensuration",
"defaultMosaicMethod": "Center",
"allowedMosaicMethods": "",
"sortField": "",
"sortValue": null,
"sortAscending": true,
"mosaicOperator": "First",
"defaultCompressionQuality": 75,
"defaultResamplingMethod": "Nearest",
"maxImageHeight": 4100,
"maxImageWidth": 15000,
"allowRasterFunction": true,
"rasterFunctionInfos": [
{
"name": "None",
"description": "",
"help": ""
}
],
"rasterTypeInfos": [
{
"name": "Raster Dataset",
"description": "Supports all ArcGIS Raster Datasets",
"help": ""
}
],
"mensurationCapabilities": "Basic",
"hasHistograms": true,
"hasColormap": false,
"hasRasterAttributeTable": false,
"minScale": 0,
"maxScale": 0,
"exportTilesAllowed": false,
"supportsStatistics": false,
"supportsAdvancedQueries": false,
"editFieldsInfo": null,
"ownershipBasedAccessControlForRasters": null,
"allowComputeTiePoints": false,
"useStandardizedQueries": true,
"advancedQueryCapabilities": {
"useStandardizedQueries": true,
"supportsStatistics": false,
"supportsOrderBy": false,
"supportsDistinct": false,
"supportsPagination": false
},
"spatialReference": {
"wkid": 2927,
"latestWkid": 2927
}
}