{ "currentVersion": 11.1, "serviceDescription": "
Areas of both high connectivity value and residential development risk developed for the Washington Habitat Connectivity Action Plan.<\/SPAN><\/P> To identify areas with concentrated extents of high connectivity value which are also facing significant threat from potential housing and residential development, we applied kernel density analyses following the methodology detailed in the preceding section by adjusting the cost surface to account for the development.<\/SPAN><\/P> To specifically quantify areas under high development pressure, we employed the Mann-Kendall Index. This non-parametric test was computed to detect statistically significant monotonic trends in a 30-year Landsat satellite image time series. For each landscape unit, the Mann-Kendall Index yielded a value where positive indices indicated an increasing trend in development pressure. We rescaled the positive index values to a range of 0 to 1, with 1 representing the highest development pressure.<\/SPAN><\/P> This rescaled development pressure layer was subsequently integrated with areas of relatively high connectivity. To achieve this, we selected portions of the original connectivity surface with values exceeding the 30th percentile (connectivity value > 8) and rescaling it to a 0-to-1 range, where 1 denoted the highest connectivity within this subset.<\/SPAN><\/P> Finally, we multiplied the rescaled development pressure layer by the rescaled high-connectivity layer. The resulting surface, ranging from 0 to 1, represented the spatial congruence of high development threat and high connectivity, signifying areas of heightened vulnerability.<\/SPAN><\/P> We used the multiplication layer as the base to generate source locations and \u2019cost surface\u2019 to fit and compute kernel density. We set the kernel cost-weighted distance at 79,200 \u2013 an equivalent of 15 mi in uniform landscape with the lowest cost defined by highest development and connectivity values <\/SPAN><\/P><\/DIV>",
"name": "HP_WAHCAP/DevelopmentRisk",
"description": " Areas of both high connectivity value and residential development risk developed for the Washington Habitat Connectivity Action Plan.<\/SPAN><\/P> To identify areas with concentrated extents of high connectivity value which are also facing significant threat from potential housing and residential development, we applied kernel density analyses following the methodology detailed in the preceding section by adjusting the cost surface to account for the development.<\/SPAN><\/P> To specifically quantify areas under high development pressure, we employed the Mann-Kendall Index. This non-parametric test was computed to detect statistically significant monotonic trends in a 30-year Landsat satellite image time series. For each landscape unit, the Mann-Kendall Index yielded a value where positive indices indicated an increasing trend in development pressure. We rescaled the positive index values to a range of 0 to 1, with 1 representing the highest development pressure.<\/SPAN><\/P> This rescaled development pressure layer was subsequently integrated with areas of relatively high connectivity. To achieve this, we selected portions of the original connectivity surface with values exceeding the 30th percentile (connectivity value > 8) and rescaling it to a 0-to-1 range, where 1 denoted the highest connectivity within this subset.<\/SPAN><\/P> Finally, we multiplied the rescaled development pressure layer by the rescaled high-connectivity layer. The resulting surface, ranging from 0 to 1, represented the spatial congruence of high development threat and high connectivity, signifying areas of heightened vulnerability.<\/SPAN><\/P> We used the multiplication layer as the base to generate source locations and \u2019cost surface\u2019 to fit and compute kernel density. We set the kernel cost-weighted distance at 79,200 \u2013 an equivalent of 15 mi in uniform landscape with the lowest cost defined by highest development and connectivity values <\/SPAN><\/P><\/DIV>",
"extent": {
"xmin": 600542.2103022073,
"ymin": 83558.26049690112,
"xmax": 2548862.210302207,
"ymax": 1356038.260496901,
"spatialReference": {
"wkid": 2927,
"latestWkid": 2927
}
},
"initialExtent": {
"xmin": 600542.2103022073,
"ymin": 83558.26049690112,
"xmax": 2548862.210302207,
"ymax": 1356038.260496901,
"spatialReference": {
"wkid": 2927,
"latestWkid": 2927
}
},
"fullExtent": {
"xmin": 600542.2103022073,
"ymin": 83558.26049690112,
"xmax": 2548862.210302207,
"ymax": 1356038.260496901,
"spatialReference": {
"wkid": 2927,
"latestWkid": 2927
}
},
"sortableFields": "",
"bandCount": 1,
"pixelType": "F32",
"minValues": [
0
],
"maxValues": [
0.7820088863372803
],
"meanValues": [
0.019883568779089082
],
"stdvValues": [
0.051440264341889204
],
"hasMultidimensions": false,
"pixelSizeX": 5280,
"pixelSizeY": 5280,
"datasetFormat": "FGDBR",
"uncompressedSize": 355716,
"blockWidth": 128,
"blockHeight": 128,
"compressionType": "LZ77",
"bandNames": [
"Band_1"
],
"allowCopy": false,
"allowAnalysis": true,
"itemAccess": false,
"minPixelSize": 0,
"maxPixelSize": 0,
"copyrightText": "This layer was developed for the 2025 Washington Habitat Connectivity Action Plan by the Washington Department of Fish and Wildlife (WDFW) and TerrAdapt (https://terradapt.org/).",
"serviceDataType": "esriImageServiceDataTypeGeneric",
"serviceSourceType": "esriImageServiceSourceTypeDataset",
"objectIdField": "",
"fields": [],
"capabilities": "Image,Metadata,Mensuration",
"defaultMosaicMethod": "Center",
"allowedMosaicMethods": "",
"sortField": "",
"sortValue": null,
"sortAscending": true,
"mosaicOperator": "First",
"defaultCompressionQuality": 75,
"defaultResamplingMethod": "Nearest",
"maxImageHeight": 4100,
"maxImageWidth": 15000,
"allowRasterFunction": true,
"rasterFunctionInfos": [
{
"name": "None",
"description": "",
"help": ""
}
],
"rasterTypeInfos": [
{
"name": "Raster Dataset",
"description": "Supports all ArcGIS Raster Datasets",
"help": ""
}
],
"mensurationCapabilities": "Basic",
"hasHistograms": true,
"hasColormap": false,
"hasRasterAttributeTable": false,
"minScale": 0,
"maxScale": 0,
"exportTilesAllowed": false,
"supportsStatistics": false,
"supportsAdvancedQueries": false,
"editFieldsInfo": null,
"ownershipBasedAccessControlForRasters": null,
"allowComputeTiePoints": false,
"useStandardizedQueries": true,
"advancedQueryCapabilities": {
"useStandardizedQueries": true,
"supportsStatistics": false,
"supportsOrderBy": false,
"supportsDistinct": false,
"supportsPagination": false
},
"spatialReference": {
"wkid": 2927,
"latestWkid": 2927
}
}